BEGIN:VCALENDAR
VERSION:2.0
PRODID:-//CECGP - ECPv6.15.15//NONSGML v1.0//EN
CALSCALE:GREGORIAN
METHOD:PUBLISH
X-ORIGINAL-URL:https://cecgp.com.br
X-WR-CALDESC:Eventos para CECGP
REFRESH-INTERVAL;VALUE=DURATION:PT1H
X-Robots-Tag:noindex
X-PUBLISHED-TTL:PT1H
BEGIN:VTIMEZONE
TZID:America/Sao_Paulo
BEGIN:STANDARD
TZOFFSETFROM:-0300
TZOFFSETTO:-0300
TZNAME:-03
DTSTART:20230101T000000
END:STANDARD
END:VTIMEZONE
BEGIN:VEVENT
DTSTART;VALUE=DATE:20240723
DTEND;VALUE=DATE:20240724
DTSTAMP:20260423T095133
CREATED:20240625T232134Z
LAST-MODIFIED:20240722T173702Z
UID:13671-1721692800-1721779199@cecgp.com.br
SUMMARY:Dia Internacional Contra o Abuso e Tráfico Ilícito de Drogas
DESCRIPTION:Em 1987 a Organização das Nações Unidas (ONU) estabeleceu o dia 26 de junho como o Dia Internacional contra o Abuso e Tráfico Ilícito de Drogas. Esta data foi criada para conscientizar a população global sobre essa temática\, enfatizando a necessidade de combater os problemas sociais criados pelas drogas ilícitas\, além de planejar ações de combate à dependência química e o tráfico de drogas. \nAtualmente o uso e abuso de álcool e outras drogas constituem um dos mais importantes problemas de saúde pública no mundo\, considerando-se a magnitude e a diversidade de aspectos envolvidos.
URL:https://cecgp.com.br/evento/dia-internacional-contra-o-abuso-e-trafico-ilicito-de-drogas/
CATEGORIES:Eventos calendário CECGP
ATTACH;FMTTYPE=image/jpeg:https://cecgp.com.br/wp-content/uploads/2024/06/depemdentes-de-droga.jpg
END:VEVENT
END:VCALENDAR